BEGIN:VCALENDAR
VERSION:2.0
PRODID:-//Plone.org//NONSGML plone.app.event//EN
X-WR-TIMEZONE:Europe/Rome
BEGIN:VEVENT
SUMMARY:AlmaOrienta 2015
DTSTART;TZID=Europe/Rome;VALUE=DATE-TIME:20150303T083000
DTEND;TZID=Europe/Rome;VALUE=DATE-TIME:20150304T163000
DTSTAMP;VALUE=DATE-TIME:20260419T213723Z
UID:c5549cfd65c044eaa909b94576d1a213@disi.unibo.it
CREATED;VALUE=DATE-TIME:20150205T114208Z
LAST-MODIFIED;VALUE=DATE-TIME:20150205T114237Z
URL:https://disi.unibo.it/it/eventi/almaorienta-2015
END:VEVENT
BEGIN:VTIMEZONE
TZID:Europe/Rome
X-LIC-LOCATION:Europe/Rome
BEGIN:STANDARD
DTSTART;VALUE=DATE-TIME:20141026T020000
TZNAME:CET
TZOFFSETFROM:+0200
TZOFFSETTO:+0100
END:STANDARD
END:VTIMEZONE
END:VCALENDAR
