BEGIN:VCALENDAR
VERSION:2.0
PRODID:-//Plone.org//NONSGML plone.app.event//EN
X-WR-TIMEZONE:Europe/Rome
BEGIN:VEVENT
SUMMARY:Seminario "Modeling and Processing Information in Systems of Engag
 ement”
DTSTART;TZID=Europe/Rome;VALUE=DATE-TIME:20150619T100000
DTEND;TZID=Europe/Rome;VALUE=DATE-TIME:20150619T120000
DTSTAMP;VALUE=DATE-TIME:20260420T100639Z
UID:2fe942ebd1be4235a1a5acc6fd52989d@disi.unibo.it
CREATED;VALUE=DATE-TIME:20150618T111308Z
LAST-MODIFIED;VALUE=DATE-TIME:20150618T111322Z
URL:https://disi.unibo.it/it/eventi/seminario-modeling-and-processing-info
 rmation-in-systems-of-engagement201d
END:VEVENT
BEGIN:VTIMEZONE
TZID:Europe/Rome
X-LIC-LOCATION:Europe/Rome
BEGIN:DAYLIGHT
DTSTART;VALUE=DATE-TIME:20150329T030000
TZNAME:CEST
TZOFFSETFROM:+0100
TZOFFSETTO:+0200
END:DAYLIGHT
END:VTIMEZONE
END:VCALENDAR
